{
 "currentVersion": 11.5,
 "cimVersion": "3.5.0",
 "serviceDescription": "2017 flight from Pictometry during the spring (April-May) in the cities of Long Prairie, Browerville, and Stapels flown at 4 inch resolution. This flight turned out to be too green and a 2018 re flight will be flown.",
 "mapName": "Layers",
 "description": "2013 flight from Pictometry during the spring (April-May) in the cities of Long Prairie, Browerville, and Stapels flown at 4 inch resolution. This flight turned out to be too green and a 2018 re flight will be flown.",
 "copyrightText": "",
 "supportsDynamicLayers": true,
 "layers": [
  {
   "id": 0,
   "name": "MNTODD031034.sid",
   "parentLayerId": -1,
   "defaultVisibility": true,
   "subLayerIds": null,
   "minScale": 0,
   "maxScale": 0,
   "type": "Raster Layer",
   "supportsDynamicLegends": true
  },
  {
   "id": 1,
   "name": "MNTODD058031.sid",
   "parentLayerId": -1,
   "defaultVisibility": true,
   "subLayerIds": null,
   "minScale": 0,
   "maxScale": 0,
   "type": "Raster Layer",
   "supportsDynamicLegends": true
  },
  {
   "id": 2,
   "name": "MNTODD051031.sid",
   "parentLayerId": -1,
   "defaultVisibility": true,
   "subLayerIds": null,
   "minScale": 0,
   "maxScale": 0,
   "type": "Raster Layer",
   "supportsDynamicLegends": true
  }
 ],
 "tables": [],
 "spatialReference": {
  "wkid": 103785,
  "latestWkid": 103785,
  "xyTolerance": 0.003280833333333333,
  "zTolerance": 0.001,
  "mTolerance": 0.001,
  "falseX": -118792500,
  "falseY": -98891500,
  "xyUnits": 3.775257981323633E7,
  "falseZ": -100000,
  "zUnits": 10000,
  "falseM": -100000,
  "mUnits": 10000
 },
 "singleFusedMapCache": true,
 "tileInfo": {
  "rows": 256,
  "cols": 256,
  "dpi": 96,
  "format": "MIXED",
  "compressionQuality": 75,
  "origin": {
   "x": -118792500,
   "y": 139693500
  },
  "spatialReference": {
   "wkid": 103785,
   "latestWkid": 103785,
   "xyTolerance": 0.003280833333333333,
   "zTolerance": 0.001,
   "mTolerance": 0.001,
   "falseX": -118792500,
   "falseY": -98891500,
   "xyUnits": 3048.0060960121928,
   "falseZ": -100000,
   "zUnits": 10000,
   "falseM": -100000,
   "mUnits": 10000
  },
  "lods": [
   {
    "level": 0,
    "resolution": 13.888888888888888,
    "scale": 16000
   },
   {
    "level": 1,
    "resolution": 6.944444444444444,
    "scale": 8000
   },
   {
    "level": 2,
    "resolution": 3.472222222222222,
    "scale": 4000
   },
   {
    "level": 3,
    "resolution": 1.736111111111111,
    "scale": 2000
   },
   {
    "level": 4,
    "resolution": 0.8680555555555555,
    "scale": 1000
   },
   {
    "level": 5,
    "resolution": 0.43402777777777773,
    "scale": 500
   },
   {
    "level": 6,
    "resolution": 0.21701388888888887,
    "scale": 250
   }
  ]
 },
 "storageInfo": {
  "storageFormat": "esriMapCacheStorageModeCompactV2",
  "packetSize": 128
 },
 "initialExtent": {
  "xmin": 354787.38336832495,
  "ymin": 154854.25097212376,
  "xmax": 686923.9481965346,
  "ymax": 332054.75066467636,
  "spatialReference": {
   "wkid": 103785,
   "latestWkid": 103785,
   "xyTolerance": 0.003280833333333333,
   "zTolerance": 0.001,
   "mTolerance": 0.001,
   "falseX": -118792500,
   "falseY": -98891500,
   "xyUnits": 3.775257981323633E7,
   "falseZ": -100000,
   "zUnits": 10000,
   "falseM": -100000,
   "mUnits": 10000
  }
 },
 "fullExtent": {
  "xmin": 502208.66596889996,
  "ymin": 161614.334970135,
  "xmax": 539502.66559596,
  "ymax": 325294.666666665,
  "spatialReference": {
   "wkid": 103785,
   "latestWkid": 103785,
   "xyTolerance": 0.003280833333333333,
   "zTolerance": 0.001,
   "mTolerance": 0.001,
   "falseX": -118792500,
   "falseY": -98891500,
   "xyUnits": 3.775257981323633E7,
   "falseZ": -100000,
   "zUnits": 10000,
   "falseM": -100000,
   "mUnits": 10000
  }
 },
 "datesInUnknownTimezone": false,
 "minScale": 0,
 "maxScale": 0,
 "units": "esriFeet",
 "supportedImageFormatTypes": "PNG32,PNG24,PNG,JPG,DIB,TIFF,EMF,PS,PDF,GIF,SVG,SVGZ,BMP",
 "documentInfo": {
  "Title": "Untitled.aprx",
  "Author": "",
  "Comments": "2013 flight from Pictometry during the spring (April-May) in the cities of Long Prairie, Browerville, and Stapels flown at 4 inch resolution. This flight turned out to be too green and a 2018 re flight will be flown.",
  "Subject": "2018 City - Refly",
  "Category": "",
  "Version": "2.6.0",
  "AntialiasingMode": "None",
  "TextAntialiasingMode": "Force",
  "Keywords": "Pictometry City Refly"
 },
 "supportsQueryDomains": true,
 "capabilities": "Map,Query,Data",
 "supportedQueryFormats": "JSON, geoJSON, PBF",
 "exportTilesAllowed": false,
 "referenceScale": 0.0,
 "supportsDatumTransformation": true,
 "archivingInfo": {
  "supportsHistoricMoment": false
 },
 "supportsClipping": true,
 "supportsSpatialFilter": true,
 "supportsTimeRelation": true,
 "supportsQueryDataElements": true,
 "mapUnits": {
  "uwkid": 9003
 },
 "maxSelectionCount": 2000,
 "maxRecordCount": 1000,
 "maxImageHeight": 4096,
 "maxImageWidth": 4096,
 "supportedExtensions": "",
 "resampling": false
}
