{
 "currentVersion": 11.5,
 "cimVersion": "3.5.0",
 "serviceDescription": "2017 County wide flight flown in April-May with a 9 inch resolution",
 "mapName": "Layers",
 "description": "",
 "copyrightText": "",
 "supportsDynamicLayers": true,
 "layers": [
  {
   "id": 0,
   "name": "MNTODD063019.sid",
   "parentLayerId": -1,
   "defaultVisibility": true,
   "subLayerIds": null,
   "minScale": 0,
   "maxScale": 0,
   "type": "Raster Layer",
   "supportsDynamicLegends": true
  },
  {
   "id": 1,
   "name": "MNTODD046018.sid",
   "parentLayerId": -1,
   "defaultVisibility": true,
   "subLayerIds": null,
   "minScale": 0,
   "maxScale": 0,
   "type": "Raster Layer",
   "supportsDynamicLegends": true
  },
  {
   "id": 2,
   "name": "MNTODD031034.sid",
   "parentLayerId": -1,
   "defaultVisibility": true,
   "subLayerIds": null,
   "minScale": 0,
   "maxScale": 0,
   "type": "Raster Layer",
   "supportsDynamicLegends": true
  }
 ],
 "tables": [],
 "spatialReference": {
  "wkid": 103785,
  "latestWkid": 103785,
  "xyTolerance": 0.003280833333333333,
  "zTolerance": 0.001,
  "mTolerance": 0.001,
  "falseX": -118792500,
  "falseY": -98891500,
  "xyUnits": 3.775257981323633E7,
  "falseZ": -100000,
  "zUnits": 10000,
  "falseM": -100000,
  "mUnits": 10000
 },
 "singleFusedMapCache": true,
 "tileInfo": {
  "rows": 256,
  "cols": 256,
  "dpi": 96,
  "format": "MIXED",
  "compressionQuality": 75,
  "origin": {
   "x": -118792500,
   "y": 139693500
  },
  "spatialReference": {
   "wkid": 103785,
   "latestWkid": 103785,
   "xyTolerance": 0.003280833333333333,
   "zTolerance": 0.001,
   "mTolerance": 0.001,
   "falseX": -118792500,
   "falseY": -98891500,
   "xyUnits": 3.775257981323633E7,
   "falseZ": -100000,
   "zUnits": 10000,
   "falseM": -100000,
   "mUnits": 10000
  },
  "lods": [
   {
    "level": 0,
    "resolution": 1736.111111111111,
    "scale": 2000000
   },
   {
    "level": 1,
    "resolution": 868.0555555555555,
    "scale": 1000000
   },
   {
    "level": 2,
    "resolution": 434.02777777777777,
    "scale": 500000
   },
   {
    "level": 3,
    "resolution": 217.01388888888889,
    "scale": 250000
   },
   {
    "level": 4,
    "resolution": 108.50694444444444,
    "scale": 125000
   },
   {
    "level": 5,
    "resolution": 55.55555555555555,
    "scale": 64000
   },
   {
    "level": 6,
    "resolution": 27.777777777777775,
    "scale": 32000
   },
   {
    "level": 7,
    "resolution": 13.888888888888888,
    "scale": 16000
   },
   {
    "level": 8,
    "resolution": 6.944444444444444,
    "scale": 8000
   },
   {
    "level": 9,
    "resolution": 3.472222222222222,
    "scale": 4000
   },
   {
    "level": 10,
    "resolution": 1.736111111111111,
    "scale": 2000
   },
   {
    "level": 11,
    "resolution": 0.8680555555555555,
    "scale": 1000
   },
   {
    "level": 12,
    "resolution": 0.43402777777777773,
    "scale": 500
   }
  ]
 },
 "storageInfo": {
  "storageFormat": "esriMapCacheStorageModeCompactV2",
  "packetSize": 128
 },
 "initialExtent": {
  "xmin": 274548.91176922095,
  "ymin": 89094.59973637958,
  "xmax": 724703.838230779,
  "ymax": 329259.90026362037,
  "spatialReference": {
   "wkid": 103785,
   "latestWkid": 103785,
   "xyTolerance": 0.003280833333333333,
   "zTolerance": 0.001,
   "mTolerance": 0.001,
   "falseX": -118792500,
   "falseY": -98891500,
   "xyUnits": 3.775257981323633E7,
   "falseZ": -100000,
   "zUnits": 10000,
   "falseM": -100000,
   "mUnits": 10000
  }
 },
 "fullExtent": {
  "xmin": 432432,
  "ymin": 98256.75,
  "xmax": 566820.75,
  "ymax": 320097.75,
  "spatialReference": {
   "wkid": 103785,
   "latestWkid": 103785,
   "xyTolerance": 0.003280833333333333,
   "zTolerance": 0.001,
   "mTolerance": 0.001,
   "falseX": -118792500,
   "falseY": -98891500,
   "xyUnits": 3.775257981323633E7,
   "falseZ": -100000,
   "zUnits": 10000,
   "falseM": -100000,
   "mUnits": 10000
  }
 },
 "datesInUnknownTimezone": false,
 "minScale": 500000,
 "maxScale": 500,
 "units": "esriFeet",
 "supportedImageFormatTypes": "PNG32,PNG24,PNG,JPG,DIB,TIFF,EMF,PS,PDF,GIF,SVG,SVGZ,BMP",
 "documentInfo": {
  "Title": "Untitled.aprx",
  "Author": "",
  "Comments": "",
  "Subject": "",
  "Category": "",
  "Version": "2.6.0",
  "AntialiasingMode": "None",
  "TextAntialiasingMode": "Force",
  "Keywords": "2017 Pictometry County"
 },
 "supportsQueryDomains": true,
 "capabilities": "Map,Query,Data",
 "supportedQueryFormats": "JSON, geoJSON, PBF",
 "exportTilesAllowed": false,
 "referenceScale": 0.0,
 "supportsDatumTransformation": true,
 "archivingInfo": {
  "supportsHistoricMoment": false
 },
 "supportsClipping": true,
 "supportsSpatialFilter": true,
 "supportsTimeRelation": true,
 "supportsQueryDataElements": true,
 "mapUnits": {
  "uwkid": 9003
 },
 "maxSelectionCount": 2000,
 "maxRecordCount": 1000,
 "maxImageHeight": 4096,
 "maxImageWidth": 4096,
 "supportedExtensions": "",
 "resampling": false
}
